BEGIN:VCALENDAR
VERSION:2.0
PRODID:-//hacksw/handcal//NONSGML v1.0//EN
BEGIN:VEVENT
SUMMARY:Challenge Kodomo
UID:bc24e174-4cf4-4604-a314-3a9c52bf7d59
DTSTART:20260523T083000Z
DTEND:20260523T093000Z
LOCATION:Localisation Maison des arts martiaux chemin Cassaing 31000 Toulouse
CATEGORIES:Manifestation
STATUS:
DESCRIPTION:<p>Animation pour tous les poussins je vous propose pour
 qu'on se retrouve tous ensemble de 10h30 a 11h30. </p><p>Inscription
 rapide obligatoire.</p>
URL;VALUE=URI:https://www.toriijudoclub.fr/evenements/2026/05/23/challenge-kodomo-2437178
END:VEVENT
END:VCALENDAR
