BEGIN:VCALENDAR
VERSION:2.0
PRODID:-//hacksw/handcal//NONSGML v1.0//EN
BEGIN:VEVENT
SUMMARY:Cours Baby Judo - Martres
UID:f451f25c-6c93-45da-a359-dd2631f7a545
DTSTART:20260506T161500Z
DTEND:20260506T170000Z
LOCATION:Torii Judo Club Martres Chemin Lacassagne 31220 Martres Tolosane
CATEGORIES:Sportif
STATUS:
URL;VALUE=URI:https://www.toriijudoclub.fr/evenements/2026/05/06/cours-baby-judo-martres-2275332
END:VEVENT
END:VCALENDAR
