BEGIN:VCALENDAR
VERSION:2.0
PRODID:-//hacksw/handcal//NONSGML v1.0//EN
BEGIN:VEVENT
SUMMARY:Competition Martres Tolosane
UID:1d1b8de2-a564-4c0d-a89c-273f547b7da3
DTSTART:20260430T220000Z
DTEND:20260501T220000Z
LOCATION:Localisation Gymnase municipal Rue du stade 31220 Martres Tolosane
CATEGORIES:Sportif
STATUS:
DESCRIPTION:<p>Competition ouverte a toutes les categories
 <u><strong><span style="color:#ff3300;">sauf
 Poussins</span></strong></u></p>
URL;VALUE=URI:https://www.toriijudoclub.fr/evenements/2026/05/01/competition-martres-tolosane-2436672
END:VEVENT
END:VCALENDAR
