BEGIN:VCALENDAR
VERSION:2.0
PRODID:-//hacksw/handcal//NONSGML v1.0//EN
BEGIN:VEVENT
SUMMARY:Tournoi par Equipes Minimes
UID:8546931f-b06f-4694-9e20-5d93387214c5
DTSTART:20260410T220000Z
DTEND:20260411T220000Z
LOCATION:Localisation   
CATEGORIES:Sportif
STATUS:
DESCRIPTION:<p>Tournoi par equipes Minimes Garcons et
 Filles</p><p>Nous avons besoin de savoir quels sont les enfants qui
 seraient susceptibles d'etre interesses par cet evenement bien
 entendu c'est une competition par equipe donc il faut etre sur d'etre
 present. </p><p>Les categories de poids sont les
 suivantes. </p><p>Garcons: -39, -45, -52, -60, +60</p><p>Filles:
 -40, -48, -57, +57</p><p>Le Coach sera Cedric du Torii Judo
 Club</p><p><br></p>
URL;VALUE=URI:https://www.toriijudoclub.fr/evenements/2026/04/11/tournoi-par-equipes-minimes-2436193
END:VEVENT
END:VCALENDAR
