BEGIN:VCALENDAR
VERSION:2.0
PRODID:-//hacksw/handcal//NONSGML v1.0//EN
BEGIN:VEVENT
SUMMARY:Cours Benj. a Adultes - Rieumes
UID:e3bc0000-9127-4b3d-904c-9fd02a8d2f47
DTSTART:20260408T173000Z
DTEND:20260408T184500Z
LOCATION:Torii Judo Club Rieumes Rue du Stade 31370 Rieumes 31370 Rieumes
CATEGORIES:Sportif
STATUS:
URL;VALUE=URI:https://www.toriijudoclub.fr/evenements/2026/04/08/cours-benj-a-adultes-rieumes-2275698
END:VEVENT
END:VCALENDAR
