BEGIN:VCALENDAR
VERSION:2.0
PRODID:-//hacksw/handcal//NONSGML v1.0//EN
BEGIN:VEVENT
SUMMARY:Cours MP/ Poussin - Aspet
UID:3e47362c-5ba1-46ff-a161-51fc777ff922
DTSTART:20260402T161500Z
DTEND:20260402T171500Z
LOCATION:Torii Judo Club Aspet rue de la resistance 31160 ASPET
CATEGORIES:Sportif
STATUS:
URL;VALUE=URI:https://www.toriijudoclub.fr/evenements/2026/04/02/cours-mp-poussin-aspet-2275785
END:VEVENT
END:VCALENDAR
