BEGIN:VCALENDAR
VERSION:2.0
PRODID:-//hacksw/handcal//NONSGML v1.0//EN
BEGIN:VEVENT
SUMMARY:Cours Benj. a Adultes - Rieumes
UID:968577c4-9998-4682-bbea-47a365186446
DTSTART:20260401T173000Z
DTEND:20260401T184500Z
LOCATION:Torii Judo Club Rieumes Rue du Stade 31370 Rieumes 31370 Rieumes
CATEGORIES:Sportif
STATUS:
URL;VALUE=URI:https://www.toriijudoclub.fr/evenements/2026/04/01/cours-benj-a-adultes-rieumes-2275697
END:VEVENT
END:VCALENDAR
