BEGIN:VCALENDAR
VERSION:2.0
PRODID:-//hacksw/handcal//NONSGML v1.0//EN
BEGIN:VEVENT
SUMMARY:Competition de Fonsorbes
UID:19c19106-dfdb-4b8b-b2ac-a8d4fbf32642
DTSTART:20260328T230000Z
DTEND:20260329T230000Z
LOCATION:Localisation   
CATEGORIES:Sportif
STATUS:
DESCRIPTION:<p>Competition pour toutes les categories
 d'age</p><div><font color="#d32f2f">ATTENTION INSCRIPTION OBLIGATOIRE
 VIA LE QR 
 CODE.</font></div><div><div><br></div><div>09h00-09h15</div><div>Minimes
 (Fille/Garcon) 2012 et
 2013</div><div><br></div><div>09h15-09h45</div><div>Benjamins
 (Fille/Garcon) 2014 et
 2015</div><div><br></div><div>10h00-10h30</div><div>Baby Judo (Fille)
 2020 et 2021</div><div><br></div><div>10h30-11h00</div><div>Baby Judo
 (Garcon) 2020 et
 2021</div><div><br></div><div>11h15-11h45</div><div>Poussines (Fille)
 2016 et 2017</div><div><br></div><div>12h15-12h45</div><div>Poussins
 (Garcon) 2016 et
 2017</div><div><br></div><div>13h30-14h00</div><div>Mini-Poussines
 (Fille) 2018 et
 2019</div><div><br></div><div>14h30-15h00</div><div>Mini-Poussins
 (Garcon) 2018 et
 2019</div><div><br></div><div>16h00-16h30</div><div>Cadets a Veterans
 (Fille/Garcon) 2011 et
 avant</div><div><br></div><div><br></div><div><br></div></div>
URL;VALUE=URI:https://www.toriijudoclub.fr/evenements/2026/03/29/competition-de-fonsorbes-2427027
END:VEVENT
END:VCALENDAR
