BEGIN:VCALENDAR
VERSION:2.0
PRODID:-//hacksw/handcal//NONSGML v1.0//EN
BEGIN:VEVENT
SUMMARY:Cours MP/ Poussin - Aurignac
UID:e877309f-e6fc-4773-ac00-c95f78009c85
DTSTART:20260325T171500Z
DTEND:20260325T181500Z
LOCATION:Torii Judo Club Aurignac rue Benabarre 31420 Aurignac
CATEGORIES:Sportif
STATUS:
URL;VALUE=URI:https://www.toriijudoclub.fr/evenements/2026/03/25/cours-mp-poussin-aurignac-2275416
END:VEVENT
END:VCALENDAR
